BEGIN:VCALENDAR
VERSION:2.0
PRODID:-//ASTA MD/DC Chapter - ECPv6.15.18//NONSGML v1.0//EN
CALSCALE:GREGORIAN
METHOD:PUBLISH
X-WR-CALNAME:ASTA MD/DC Chapter
X-ORIGINAL-URL:https://www.asta.net
X-WR-CALDESC:Events for ASTA MD/DC Chapter
REFRESH-INTERVAL;VALUE=DURATION:PT1H
X-Robots-Tag:noindex
X-PUBLISHED-TTL:PT1H
BEGIN:VTIMEZONE
TZID:America/New_York
BEGIN:DAYLIGHT
TZOFFSETFROM:-0500
TZOFFSETTO:-0400
TZNAME:EDT
DTSTART:20210314T070000
END:DAYLIGHT
BEGIN:STANDARD
TZOFFSETFROM:-0400
TZOFFSETTO:-0500
TZNAME:EST
DTSTART:20211107T060000
END:STANDARD
BEGIN:DAYLIGHT
TZOFFSETFROM:-0500
TZOFFSETTO:-0400
TZNAME:EDT
DTSTART:20220313T070000
END:DAYLIGHT
BEGIN:STANDARD
TZOFFSETFROM:-0400
TZOFFSETTO:-0500
TZNAME:EST
DTSTART:20221106T060000
END:STANDARD
BEGIN:DAYLIGHT
TZOFFSETFROM:-0500
TZOFFSETTO:-0400
TZNAME:EDT
DTSTART:20230312T070000
END:DAYLIGHT
BEGIN:STANDARD
TZOFFSETFROM:-0400
TZOFFSETTO:-0500
TZNAME:EST
DTSTART:20231105T060000
END:STANDARD
END:VTIMEZONE
BEGIN:VEVENT
DTSTART;TZID=America/New_York:20220605T140000
DTEND;TZID=America/New_York:20220605T160000
DTSTAMP:20260421T114549
CREATED:20211128T151505Z
LAST-MODIFIED:20220522T125549Z
UID:1466-1654437600-1654444800@www.asta.net
SUMMARY:ASTA Cellobration: Masterclass with David Finckel
DESCRIPTION:For our 2022 ASTA Cellobration Event\, \nASTA MD/DC Chapter is proud to present \nMasterclass with David Finckel \n 2:00-4:00 pm Sunday June 5\, 2022 \nLocation: Education Center at Strathmore \nRegister Now for Early Bird Pricing to observe the Masterclass! \n$10 for ASTA Members/Students $25 for Non-Members \nRegister HERE \n \n\n\n\n\n  \nCellist David Finckel’s dynamic musical career has included performances on the world’s most distinguished stages as well as ground-breaking entrepreneurial projects. As cellist of the Emerson String Quartet for thirty-four seasons\, his massive chamber music repertoire – both performed and recorded – includes virtually the complete string quartets of Mozart\, Beethoven\, Schubert\, Schumann\, Mendelssohn\, Dvorak\, Brahms\, Bartok and Shostakovich\, as well as the additional collaborative masterpieces and discoveries that he performs annually. His solo and duo discography is equally comprehensive\, including all the standard literature for cello and piano. Fascinated since student days by recording technology\, David created ArtistLed with pianist Wu Han in 1997\, the first artist-directed\, internet-based classical label. His discography includes commissioned works by George Tsontakis\, Gabriela Lena Frank\, Bruce Adolphe\, Lera Auerbach\, Augusta Read Thomas and Pierre Jalbert\, and his orchestral recordings include both the Dvorak and Harbison Concertos. David’s enthusiasm for living luthiers is evidenced through his performances\, since 1993\, on a cello made for him by the Brooklyn maker Samuel Zygmuntowicz\, a copy of the “Duport” Stradivari cello of 1711. At age ten\, deeply inspired by the Russian cellist Mstislav Rostropovich\, David committed himself to life as a cellist\, and at age sixteen became Rostropovich’s first American student. After first playing with pianist Wu Han in 1981\, David added to his already busy career the responsibilities and opportunities of a professional cello-and- piano duo\, both in the recording studio and on the concert stage. As artistic co-director of the Chamber Music Society of Lincoln Center (since 2004) and the Music@Menlo Festival in Silicon Valley (since 2002)\, David Finckel oversees CMS’s Bowers Program\, as well as Menlo’s annual Chamber Music Institute. He teaches cello and chamber music at both the Juilliard School and Stony Brook University. \n\n\n\n\n\n \nASTA Cellobration 2022 is brought to you by Gailes Violin Shop \n\n  \n 
URL:https://www.asta.net/event/astacellobration/
LOCATION:Strathmore Hall\, 5301 Tuckerman Lane\, North Bethesda\, MD\, 20852\, United States
END:VEVENT
END:VCALENDAR