BEGIN:VCALENDAR
VERSION:2.0
PRODID:-//ASTA MD/DC Chapter - ECPv6.15.18//NONSGML v1.0//EN
CALSCALE:GREGORIAN
METHOD:PUBLISH
X-WR-CALNAME:ASTA MD/DC Chapter
X-ORIGINAL-URL:https://www.asta.net
X-WR-CALDESC:Events for ASTA MD/DC Chapter
REFRESH-INTERVAL;VALUE=DURATION:PT1H
X-Robots-Tag:noindex
X-PUBLISHED-TTL:PT1H
BEGIN:VTIMEZONE
TZID:America/New_York
BEGIN:DAYLIGHT
TZOFFSETFROM:-0500
TZOFFSETTO:-0400
TZNAME:EDT
DTSTART:20200308T070000
END:DAYLIGHT
BEGIN:STANDARD
TZOFFSETFROM:-0400
TZOFFSETTO:-0500
TZNAME:EST
DTSTART:20201101T060000
END:STANDARD
BEGIN:DAYLIGHT
TZOFFSETFROM:-0500
TZOFFSETTO:-0400
TZNAME:EDT
DTSTART:20210314T070000
END:DAYLIGHT
BEGIN:STANDARD
TZOFFSETFROM:-0400
TZOFFSETTO:-0500
TZNAME:EST
DTSTART:20211107T060000
END:STANDARD
BEGIN:DAYLIGHT
TZOFFSETFROM:-0500
TZOFFSETTO:-0400
TZNAME:EDT
DTSTART:20220313T070000
END:DAYLIGHT
BEGIN:STANDARD
TZOFFSETFROM:-0400
TZOFFSETTO:-0500
TZNAME:EST
DTSTART:20221106T060000
END:STANDARD
END:VTIMEZONE
BEGIN:VEVENT
DTSTART;TZID=America/New_York:20210919T190000
DTEND;TZID=America/New_York:20210919T210000
DTSTAMP:20260422T012423
CREATED:20210912T193259Z
LAST-MODIFIED:20210912T193620Z
UID:1350-1632078000-1632085200@www.asta.net
SUMMARY:Shifting Our Focus
DESCRIPTION:SHIFTING OUR FOCUS \nFrom Well-DOing to Well-BEing as Classical Musicians \nSunday\, September 19th at 7:00pm\, via Zoom  \nFree for Members and College Students  \n$10 for Non-Members \n\n\n\nThis 75-minute coaching workshop will not be a lecture\, or a teaching\, nor the giving of advice. A life coach knows that people have their own best answers when given space and time to listen to their own voice. Musicians know that a room full of educators has the potential to create a powerful\, collective shift of learning. \nMaterials:  Something to write on\, to write with\, a quiet location without distractions\, and a willingness to consider sharing your thoughts.  \nResults: will take away new ideas\, a sense of being in community with others\, and a clearer understanding of ways they might like to make changes in their own lives and in their teaching. What is it\, that’s in you – that I can hold the space for – that could empower you to live the way you want to live?\n\n\n\nREGISTER HERE \nViolinist Eva Cappelletti Chao’s orchestral career has included performances at the most prestigious concert halls throughout the U.S.\, Europe\, Central and South America and the Middle East. When not stopped by a world-wide pandemic\, Eva performs regularly with the Baltimore Symphony\, the Kennedy Center Opera House Orchestra and leads many of the freelance ensembles in the Washington\, DC area. Ms. Cappelletti Chao has a thriving private life coaching practice specifically for classical musicians\, theMusicofYou.com\, which is particularly gratifying during these unprecedented times of change for the performing arts. \n 
URL:https://www.asta.net/event/shifting-our-focus/
END:VEVENT
END:VCALENDAR